Workbook

Sheet INSTRUCTIONS
A1: Congratulations on your award! Please fill out this template following the instructions below and send it to [rise@auch.org] for review
A3: BEFORE YOU ENTER DATA: Please save a copy of this template and rename the copied file as the following naming convention: RHTP Grantee Budget Guide for [insert name of Grantee here] - [insert initative class here (ex. 1.1)] - [insert budget period here (ex. BP1)]
A5: Please fill out as much detail as you can for cells highlighted in this red
A6: DO NOT HARD CODE DATA INTO THE SUMMARY TAB PLEASE
A8: Overview | B8: The overview acts as a table of contents and provides broad expectations on each of the tabs. You do not need to fill out anything here.
A9: 1. Summary | B9: Fill out the total amount of funding (H2), lesser of total amount of funding allocated or requested. Once you complete the budget detail tabs, verify total equals request.
A10: 2. Admin Costs | B10: Fill out ONLY fields in RED HIGHLIGHT to the best of your ability. You can add names if you so choose but they're currently not a requirement.
A11: 3. Salaries/Fringe | B11: Everything in RED HIGHLIGHT is required. If titles are different, you may change them. If you want to add names, you may.
A12: 4. Equipment | B12: If purchasing equipment (greater than $10k each), the type of equipment, amount, and justification need to be provided.
A13: 5. Supplies | B13: If purchasing supplies (less than $10k each), the type of supplies, amount, and justification need to be provided.
A14: 6. Travel | B14: If travelling, provide the expected total for each line item. Leave blank if not applicable.
A15: 7. Subrecipients/Contractual | B15: If you have multiple subrecipients/contracts, please fill one section for each. If you have more than the template, please copy and paste more rows. DO NOT include Category J (capital), Category B (provider payments), and EMS projects! Those will be filled out on the "Funding Caps" tab.
A16: 8. Other | B16: Fill out for anything additional that wasn't previously included in previous tabs.
A17: 9. Funding Caps | B17: Only fill if applicable. Please provide project names and amounts. Subrecipients/Contractual tab doesn't have a section for funding caps.
A18: 10. Tribal | B18: Only fill if applicable.
A20: *With all fields, if you find that you need more, please add rows and highlight them in bright yellow and we will add it to the summary page

Sheet Overview
A1: Sheet Name | B1: Description | C1: Column 1 | E1: NOTES
A2: Overview | B2: A central navigation and summary page providing an overview of all tabs within this budget guide. | E2: This Grantee Budget Guide is designed to provide a structured framework for understanding and operationalizing RHTP funds. The SUMMARY tab must be completed and submitted to DHHS before each Budget Period. It will accompany the Project Plan as noted in the Attachment B: Scope of Work, Article Grantee Responsibilities under Project Plan and Itemized Budget section.
A3: SUMMARY | B3: Consolidated overview of the entire budget, summarizing totals from all categories. | C3: USE THIS FOR ANNUAL BUDGET TEMPLATE
A4: Admin Costs | B4: Details administrative personnel costs (salaries, fringe, and indirect costs) for both the grantee and subrecipients.
A5: List of personnel | B5: A directory of key personnel involved in the grant, including their roles and FTE allocation.
A6: Salaries/fringe | B6: Detailed breakdown of salaries and fringe benefits for project implementation staff.
A7: Equipment | B7: Records grantee purchases for equipment items with a per-unit cost of $10,000 or more.
A8: Supplies | B8: Records grantee purchases for supplies with a per-unit cost of less than $10,000.
A9: Travel | B9: Tracks in-state and out-of-state travel expenses for grantee personnel, such as hotels, mileage, and per-diem.
A10: Subrecipients/Contractual | B10: A detailed worksheet for tracking all costs associated with subrecipients and subcontractors, including personnel and supplies.
A11: Other | B11: Captures miscellaneous expenses such as software licenses, registration fees, and membership dues.
A12: Funding Caps | B12: Defines funding categories (e.g., Category J, Category B) and monitors their specific budget caps and restrictions.
A13: Tribal Apportionment | B13: Tracks tribal strategies and funding if applicable.
A14: Budget periods | B14: Outlines the five budget periods, including start/end dates and expenditure deadlines.
A15: Exclusions | B15: Outlines unallowable costs and program-specific funding limitations based on CMS guidance.

Sheet SUMMARY
A1: *PLEASE DO NOT EDIT THIS TAB (except to add funding amount) | G1: Budget Period: | H1: 1
G2: Funding amount:
G3: Agreement start date: | H3: 46327
G4: Agreement end date: | H4: 46660
D5: Annual Budget Sheet
A6: Summary | G6: Total Category | H6: Totals
A7: Total Administrative costs | H7: =SUM(G8:G9) -> 0
B8: ="Indirect costs rate: " & TEXT('Admin Costs'!D6, "0.00%") -> Indirect costs rate: 0.00% | G8: =G37 -> 0
B9: Grantee Administrative | G9: =SUM(G35:G36) -> 0
B10: Subrecipient Administrative | G10: =SUM('Admin Costs'!I24:I25, 'Admin Costs'!I32:I33, 'Admin Costs'!I40:I41, 'Admin Costs'!S24:S25, 'Admin Costs'!S32:S33, 'Admin Costs'!S40:S41) -> 0
A11: Project implementation costs | H11: =H81 -> 0
B12: Project implementation Salaries & Wages | G12: =F50 -> 0
B13: Fringe Benefits | G13: =G50 -> 0
B14: Travel | G14: =H54 -> 0
B15: In-state | G15: =F52 -> 0
B16: Out-of-state | G16: =F53 -> 0
B17: Equipment (Products with a per unit cost of $10,000 or more) | G17: =H62 -> 0
B18: Supplies (Products with a per unit cost of less than $10,000) | G18: =H70 -> 0
B19: Other | G19: =H80 -> 0
A20: Projected Subrecipients/Subcontractors | H20: =SUM(F86:F91) -> 0
A22: Projected Category J Projects: Capital Expenditures (See Funding Caps tab for definition) | H22: =H116 -> 0
A23: Projected Categoy B Projects: Provider Payments (See Funding Caps tab fo definition) | H23: =H125 -> 0
A24: Projected EMR System Projects (See Funding Caps tab for definition) | H24: =H134 -> 0
A25: Total Budget | H25: =SUM(H7+H11+H20+H22+H23+H24) -> 0 | J25: =H2-H25 -> 0 | K25: Balance to equal funding request/allocation
A27: Grantee Administrative Costs
A28: Provide the following information for your agencies administrative costs. (Note: salaries to implement the project are not considered administrative costs.) | F28: Total line item | G28: Total Category | H28: Total Grantee Admin
A29: Administrative Personnel
B30: ='Admin Costs'!B12 -> Admin 1: Salary and Wages | F30: ='Admin Costs'!I12 -> 0
B31: ='Admin Costs'!B13 -> Admin 2: Salary and Wages | F31: ='Admin Costs'!I13 -> 0
B32: ='Admin Costs'!B14 -> Admin 3: Salary and Wages | F32: ='Admin Costs'!I14 -> 0
B33: ='Admin Costs'!B15 -> Admin 4: Salary and Wages | F33: ='Admin Costs'!I15 -> 0
B34: ='Admin Costs'!B16 -> Admin 5: Salary and Wages | F34: ='Admin Costs'!I16 -> 0
B35: Total salaries and wages | F35: =SUM(F30:F34) -> 0
B36: Total fringe | F36: ='Admin Costs'!J17 -> 0
A37: Indirect costs | G37: ='Admin Costs'!K18 -> 0
A38: Total Administrative Costs | H38: =SUM(G37,F36,F35) -> 0
A40: Grantee Project Implementation
A41: Provide the following information for YOUR agency's project implementation costs. | F41: Total Salaries | G41: Total Fringe | H41: Total Project Implementation
A42: Project Implementation Personnel
B43: =Salariesfringe!B6 -> Agency Lead: Salary and Wages | F43: =Salariesfringe!I6 -> 0 | G43: =Salariesfringe!J6 -> 0 | H43: =SUM(F43:G43) -> 0
...

Sheet Admin Costs
A2: Summary | C2: Annual Salary | D2: FTE % | E2: Months | F2: Fringe Rate | G2: Initiative | H2: Funding Cap | I2: Line item | J2: Category | K2: Totals
A3: Administrative costs
B4: Administrative Salaries & Wages | H4: Administrative | I4: =I17 -> 0
B5: Fringe Benefits | H5: Administrative | I5: =J17 -> 0
B6: Indirect costs | C6: [insert rate here] | H6: Administrative
A7: Total Budget | K7: =K19 -> 0
A9: Grantee Administrative Costs
A10: GRANTEE Expenses | C10: Annual Salary | D10: FTE % | E10: Months | F10: Fringe Rate | G10: Initiative | H10: Funding Cap | I10: Total Salaries | J10: Total Fringe | K10: Total Admin
A11: Administrative Personnel
B12: Admin 1: Salary and Wages | G12: 2.5 | I12: =C12*D12*(E12/12) -> 0 | J12: =I12*F12 -> 0 | K12: =SUM(I12:J12) -> 0
B13: Admin 2: Salary and Wages | G13: 2.5 | I13: 0 | J13: =I13*F13 -> 0 | K13: =SUM(I13:J13) -> 0
B14: Admin 3: Salary and Wages | G14: 2.5 | I14: 0 | J14: =I14*F14 -> 0 | K14: =SUM(I14:J14) -> 0
B15: Admin 4: Salary and Wages | G15: 2.5 | I15: 0 | J15: =I15*F15 -> 0 | K15: =SUM(I15:J15) -> 0
B16: Admin 5: Salary and Wages | G16: 2.5 | I16: 0 | J16: =I16*F16 -> 0 | K16: =SUM(I16:J16) -> 0
B17: Total Salaries and Fringe | G17: 2.5 | I17: =SUM(I12:I16) -> 0 | J17: =SUM(J12:J16) -> 0 | K17: =SUM(I17:J17) -> 0
A18: Indirect costs | K18: 0
A19: Total Administrative Costs
A21: #REF! | N21: #REF!
A22: #REF! | I22: Total line item | J22: Total Category | K22: Total Subrecipient/ Subcontractor | N22: #REF! | S22: Total line item | T22: Total Category | U22: Total Subrecipient/ Subcontractor
A23: Administrative Personnel | N23: Administrative Personnel
B24: =[1]Contractual!B7 -> #REF! | I24: #REF! | O24: =[1]Contractual!V7 -> #REF! | S24: #REF!
B25: Fringe | I25: #REF! | O25: Fringe | S25: #REF!
A26: Indirect costs | J26: =[1]Contractual!L9 -> #REF! | N26: Indirect costs | T26: =[1]Contractual!AA9 -> #REF!
A27: Total Administrative Costs | K27: =J26+I24+I25 -> #REF! | N27: Total Administrative Costs | U27: =T26+S24+S25 -> #REF!
A29: #REF! | N29: #REF!
A30: #REF! | I30: Total line item | J30: Total Category | K30: Total Subrecipient/ Subcontractor | N30: #REF! | S30: Total line item | T30: Total Category | U30: Total Subrecipient/ Subcontractor
A31: Administrative Personnel | N31: Administrative Personnel
B32: =[1]Contractual!B48 -> #REF! | I32: #REF! | O32: =[1]Contractual!V48 -> #REF! | S32: #REF!
B33: Fringe | I33: #REF! | O33: Fringe | S33: #REF!
A34: Indirect costs | J34: =[1]Contractual!L50 -> #REF! | N34: Indirect costs | T34: =[1]Contractual!AA50 -> #REF!
A35: Total Administrative Costs | K35: =J34+I32+I33 -> #REF! | N35: Total Administrative Costs | U35: =T34+S32+S33 -> #REF!
A37: #REF! | N37: #REF!
A38: #REF! | I38: Total line item | J38: Total Category | K38: Total Subrecipient/ Subcontractor | N38: #REF! | S38: Total line item | T38: Total Category | U38: Total Subrecipient/ Subcontractor
A39: Administrative Personnel | N39: Administrative Personnel
B40: =[1]Contractual!B89 -> #REF! | I40: #REF! | O40: =[1]Contractual!V89 -> #REF! | S40: #REF!
B41: Fringe | I41: #REF! | O41: Fringe | S41: #REF!
A42: Indirect costs | J42: =[1]Contractual!L91 -> #REF! | N42: Indirect costs | T42: =[1]Contractual!AA91 -> #REF!
A43: Total Administrative Costs | K43: =J42+I40+I41 -> #REF! | N43: Total Administrative Costs | U43: =T42+S40+S41 -> #REF!
A45: Tribal Project (as applicable)
A46: ADD SUBRECIPIENT/SUBCONTRACTOR DEFINITION HERE | I46: Total Salaries | J46: Total Fringe | K46: Total Subrecipient/ Subcontractor
...

Sheet Salariesfringe
D2: Salaries and Fringe
A3: GRANTEE Expenses | C3: Annual Salary | D3: FTE % | E3: Months | F3: Fringe Rate | G3: Initiative | H3: Funding Cap | I3: Total Salaries | J3: Total Fringe | K3: Total
A4: Project Implementation Personnel
A5: Funded positions
A6: 1 | B6: Agency Lead: Salary and Wages | G6: 2.5 | I6: =C6*D6*(E6/12) -> 0 | J6: =C6*F6 -> 0 | K6: =I6+J6 -> 0 | L6: <- change position title as needed
A7: 2 | B7: Project Manager: Salary and Wages | G7: 2.5 | I7: =C7*D7*(E7/12) -> 0 | J7: =C7*F7 -> 0 | K7: =I7+J7 -> 0 | L7: <- change position title as needed
A8: 3 | B8: Project Manager: Salary and Wages | G8: 2.5 | I8: =C8*D8*(E8/12) -> 0 | J8: =C8*F8 -> 0 | K8: =I8+J8 -> 0 | L8: <- change position title as needed
A9: 4 | B9: Project Coordinator: Salary and Wages | G9: 2.5 | I9: =C9*D9*(E9/12) -> 0 | J9: =C9*F9 -> 0 | K9: =I9+J9 -> 0 | L9: <- change position title as needed
A10: 5 | B10: Project Coordinator: Salary and Wages | G10: 2.5 | I10: =C10*D10*(E10/12) -> 0 | J10: =C10*F10 -> 0 | K10: =I10+J10 -> 0 | L10: <- change position title as needed
A11: 6 | B11: Project Specialist: Salary and Wages | G11: 2.5 | I11: =C11*D11*(E11/12) -> 0 | J11: =C11*F11 -> 0 | K11: =I11+J11 -> 0 | L11: <- change position title as needed
A12: 7 | B12: Project Financial Analyst | G12: 2.5 | I12: =C12*D12*(E12/12) -> 0 | J12: =C12*F12 -> 0 | K12: =I12+J12 -> 0 | L12: <- change position title as needed
B13: Total Salaries and Fringe | I13: =SUM(I6:I12) -> 0 | J13: =SUM(J6:J12) -> 0 | K13: =SUM(K6:K12) -> 0
B14: Total Salaries and Fringe for project implementation | K14: =K13 -> 0
B16: Program Justification
B17: Provide justification for funded positions.
A18: 1 | B18: =B6 -> Agency Lead: Salary and Wages
A19: 2 | B19: =B7 -> Project Manager: Salary and Wages
A20: 3 | B20: =B8 -> Project Manager: Salary and Wages
A21: 4 | B21: =B9 -> Project Coordinator: Salary and Wages
A22: 5 | B22: =B10 -> Project Coordinator: Salary and Wages
A23: 6 | B23: =B11 -> Project Specialist: Salary and Wages
A24: 7 | B24: =B12 -> Project Financial Analyst

Sheet Equipment
C2: Equipment
A3: GRANTEE Expenses | D3: # of Units | E3: $ / Unit | F3: Initiative | G3: Funding Cap | H3: Total line item
A4: Equipment (Products with a per unit cost of $10,000 or more; software goes under OTHER)
A5: Purchases for equipment
A6: 1 | B6: Equipment Type 1 | F6: 2.5 | H6: =D6*E6 -> 0 | I6: <- change equipment type name as realized
A7: 2 | B7: Equipment Type 2 | F7: 2.5 | H7: =D7*E7 -> 0
A8: 3 | B8: Equipment Type 3 | F8: 2.5 | H8: =D8*E8 -> 0
A9: 4 | B9: Equipment Type 4 | F9: 2.5 | H9: =D9*E9 -> 0
A10: 5 | B10: Equipment Type 5 | F10: 2.5 | H10: =D10*E10 -> 0
A11: 6 | B11: Equipment Type 6 | F11: 2.5 | H11: =D11*E11 -> 0
B12: Total equipment | H12: =SUM(H6:H11) -> 0
C14: Program Justification
C15: Provide justification for equipment purchases.
B16: 1
B17: 2
B18: 3
B19: 4
B20: 5
B21: 6

Sheet Supplies
C2: Supplies
A3: GRANTEE Expenses | D3: # of Units | E3: $ / Unit | F3: Initiative | G3: Funding Cap | H3: Total line item
A4: Supply (Products with a per unit cost of $10,000 or less; software goes under OTHER)
A5: Purchases for supplies
A6: 1 | B6: Supply Type 1 | F6: 2.5 | H6: =D6*E6 -> 0 | I6: <- change supply type name as needed
A7: 2 | B7: Supply Type 2 | F7: 2.5 | H7: =D7*E7 -> 0
A8: 3 | B8: Supply Type 3 | F8: 2.5 | H8: =D8*E8 -> 0
A9: 4 | B9: Supply Type 4 | F9: 2.5 | H9: =D9*E9 -> 0
A10: 5 | B10: Supply Type 5 | F10: 2.5 | H10: =D10*E10 -> 0
A11: 6 | B11: Supply Type 6 | F11: 2.5 | H11: =D11*E11 -> 0
B12: Total Supplies | H12: =SUM(H6:H11) -> 0
C14: Program Justification
C15: Provide justification for supplies purchases.
B16: 1
B17: 2
B18: 3
B19: 4
B20: 5
B21: 6

Sheet Travel
C2: Travel
A3: GRANTEE Expenses | D3: # of Units | E3: $ / Unit | F3: Initiative | G3: Funding Cap | H3: Total line item
A4: Travel for Grantee Personnel Only
A6: 1 | B6: In-state travel
B7: Hotel | F7: 2.5 | H7: =D7*E7 -> 0
B8: Mileage | E8: 0.76 | F8: 2.5 | H8: =D8*E8 -> 0
B9: Per-diem | F9: 2.5 | H9: =D9*E9 -> 0
B10: Incedentials | F10: 2.5 | H10: =D10*E10 -> 0
B11: Total In-state travel | H11: =SUM(H7:H10) -> 0
A13: 2 | B13: Out-of-state travel | C13: PROJECT SPECIFIC ONLY
B14: Hotel | H14: =D14*E14 -> 0
B15: Airfare | H15: =D15*E15 -> 0
B16: Per-diem | H16: =D16*E16 -> 0
B17: Incedentials | H17: =D17*E17 -> 0
B18: Total Out-of-state travel | H18: =SUM(H14:H17) -> 0
B19: Total Travel | H19: =H11+H18 -> 0
C22: Program Justification
C23: Provide justification for all travel.
B24: 1
B25: 2
B26: 3
B27: 4
B28: 5
B29: 6
B30: 7
B31: 8

Sheet SubrecipientsContractual
B2: Grantee Subrecipient/Subcontractor 1: NAME HERE | P2: <-change name if known | S2: Grantee Subrecipient/Subcontractor 4: Name Here | AG2: <-change name if known
B3: [INSERT SOW HERE] | K3: Initiative | L3: Funding Cap | M3: Total line item | N3: Total Category | O3: Total Subrecipient/ Subcontractor | S3: [INSERT SOW HERE] | AB3: Initiative | AC3: Funding Cap | AD3: Total line item | AE3: Total Category | AF3: Total Subrecipient/ Subcontractor
B4: Agreement Type | C4: Start Date | D4: End Date | E4: # of Awards | F4: Expected for multiple Budget Periods? | S4: Agreement Type | T4: Start Date | U4: End Date | V4: # of Awards | W4: Expected for multiple Budget Periods?
C5: MM/DD/YY | D5: MM/DD/YY | T5: MM/DD/YY | U5: MM/DD/YY
B6: Administrative Personnel | G6: Annual Salary | H6: FTE % | I6: Months | J6: Fringe Rate | M6: Salaries | N6: Fringe | S6: Administrative Personnel | X6: Annual Salary | Y6: FTE % | Z6: Months | AA6: Fringe Rate | AD6: Salaries | AE6: Fringe
C7: Admin: Salaries and Wages | K7: 2.5 | M7: =G7*H7*(I7/12) -> 0 | N7: =M7*J7 -> 0 | O7: =SUM(M7:N7) -> 0 | P7: <- change position title as needed | T7: Admin: Salaries and Wages | AB7: 2.5 | AD7: =X7*Y7*(Z7/12) -> 0 | AE7: =AD7*AA7 -> 0 | AF7: =SUM(AD7:AE7) -> 0 | AG7: <- change position title as needed
C8: Admin 2: Salaries and Wages | K8: 2.5 | M8: =G8*H8*(I8/12) -> 0 | N8: =M8*J8 -> 0 | O8: =SUM(M8:N8) -> 0 | P8: <- change position title as needed | T8: Admin 2: Salaries and Wages | AB8: 2.5 | AD8: =X8*Y8*(Z8/12) -> 0 | AE8: =AD8*AA8 -> 0 | AF8: =SUM(AD8:AE8) -> 0 | AG8: <- change position title as needed
B9: Indirect costs | M9: =SUM(M7:M8) -> 0 | N9: =SUM(N7:N8) -> 0 | O9: 0 | S9: Indirect costs | AD9: =SUM(AD7:AD8) -> 0 | AE9: =SUM(AE7:AE8) -> 0 | AF9: 0
C10: Total Administrative costs | O10: =SUM(O7:O9) -> 0 | T10: Total Administrative costs | AF10: =SUM(AF7:AF9) -> 0
B11: Project implementation Salary and Wages | G11: Annual Salary | H11: FTE % | I11: Months | J11: Fringe Rate | S11: Project implementation Salary and Wages | X11: Annual Salary | Y11: FTE % | Z11: Months | AA11: Fringe Rate
C12: Project Manager: Salary and Wages | K12: 2.5 | M12: =G12*H12*(I12/12) -> 0 | N12: =M12*J12 -> 0 | O12: =SUM(M12:N12) -> 0 | P12: <- change position title as needed | T12: Project Manager: Salary and Wages | AB12: 2.5 | AD12: =X12*Y12*(Z12/12) -> 0 | AE12: =AD12*AA12 -> 0 | AF12: =SUM(AD12:AE12) -> 0 | AG12: <- change position title as needed
C13: Project Coordinator: Salary and Wages | K13: 2.5 | M13: =G13*H13*(I13/12) -> 0 | N13: =M13*J13 -> 0 | O13: =SUM(M13:N13) -> 0 | P13: <- change position title as needed | T13: Project Coordinator: Salary and Wages | AB13: 2.5 | AD13: =X13*Y13*(Z13/12) -> 0 | AE13: =AD13*AA13 -> 0 | AF13: =SUM(AD13:AE13) -> 0 | AG13: <- change position title as needed
C14: Project Specialist: Salary and Wages | K14: 2.5 | M14: =G14*H14*(I14/12) -> 0 | N14: =M14*J14 -> 0 | O14: =SUM(M14:N14) -> 0 | P14: <- change position title as needed | T14: Project Specialist: Salary and Wages | AB14: 2.5 | AD14: =X14*Y14*(Z14/12) -> 0 | AE14: =AD14*AA14 -> 0 | AF14: =SUM(AD14:AE14) -> 0 | AG14: <- change position title as needed
C15: Total Project implementation salaries and wages | M15: =SUM(M12:M14) -> 0 | N15: =SUM(N12:N14) -> 0 | O15: =SUM(O12:O14) -> 0 | T15: Total Project implementation salaries and wages | AD15: =SUM(AD12:AD14) -> 0 | AE15: =SUM(AE12:AE14) -> 0 | AF15: =SUM(AF12:AF14) -> 0
B16: Travel | G16: Travel Type | H16: Travel Item | I16: # of Units | J16: $ / Unit | S16: Travel | X16: Travel Type | Y16: Travel Item | Z16: # of Units | AA16: $ / Unit
C17: In-state | G17: In-state | H17: Hotel | K17: 2.5 | O17: =I17*J17 -> 0 | T17: In-state | X17: In-state | Y17: Hotel | AB17: 2.5 | AF17: =Z17*AA17 -> 0
G18: In-state | H18: Mileage | K18: 2.5 | O18: =I18*J18 -> 0 | X18: In-state | Y18: Mileage | AB18: 2.5 | AF18: =Z18*AA18 -> 0
G19: In-state | H19: Per-diem | K19: 2.5 | O19: =I19*J19 -> 0 | X19: In-state | Y19: Per-diem | AB19: 2.5 | AF19: =Z19*AA19 -> 0
G20: In-state | H20: Incedentials | K20: 2.5 | O20: =I20*J20 -> 0 | X20: In-state | Y20: Incedentials | AB20: 2.5 | AF20: =Z20*AA20 -> 0
C21: Out of state | G21: Out of state | H21: Hotel | K21: 2.5 | O21: =I21*J21 -> 0 | T21: Out of state | X21: Out of state | Y21: Hotel | AB21: 2.5 | AF21: =Z21*AA21 -> 0
G22: Out of state | H22: Mileage | K22: 2.5 | O22: =I22*J22 -> 0 | X22: Out of state | Y22: Mileage | AB22: 2.5 | AF22: =Z22*AA22 -> 0
G23: Out of state | H23: Per-diem | K23: 2.5 | O23: =I23*J23 -> 0 | X23: Out of state | Y23: Per-diem | AB23: 2.5 | AF23: =Z23*AA23 -> 0
G24: Out of state | H24: Incedentials | K24: 2.5 | O24: =I24*J24 -> 0 | X24: Out of state | Y24: Incedentials | AB24: 2.5 | AF24: =Z24*AA24 -> 0
C25: Total Travel | O25: =SUM(O17:O24) -> 0 | T25: Total Travel | AF25: =SUM(AF17:AF24) -> 0
B26: Equipment (Products with a per unit cost of $10,000 or more) | I26: # of Units | J26: $ / Unit | S26: Equipment (Products with a per unit cost of $10,000 or more) | Z26: # of Units | AA26: $ / Unit
C27: Equipment type 1 | K27: 2.5 | O27: =I27*J27 -> 0 | T27: Equipment type 1 | AB27: 2.5 | AF27: =Z27*AA27 -> 0
C28: Equipment type 2 | K28: 2.5 | O28: =I28*J28 -> 0 | T28: Equipment type 2 | AB28: 2.5 | AF28: =Z28*AA28 -> 0
C29: Equipment type 3 | K29: 2.5 | O29: =I29*J29 -> 0 | T29: Equipment type 3 | AB29: 2.5 | AF29: =Z29*AA29 -> 0
C30: Total equipment | O30: =SUM(O27:O29) -> 0 | T30: Total equipment | AF30: =SUM(AF27:AF29) -> 0
B31: Supplies (Products with a per unit cost of less than $10,000) | I31: # of Units | J31: $ / Unit | S31: Supplies (Products with a per unit cost of less than $10,000) | Z31: # of Units | AA31: $ / Unit
C32: Supplies type 1 | K32: 2.5 | O32: =I32*J32 -> 0 | T32: Supplies type 1 | AB32: 2.5 | AF32: =Z32*AA32 -> 0
C33: Supplies type 2 | K33: 2.5 | O33: =I33*J33 -> 0 | T33: Supplies type 2 | AB33: 2.5 | AF33: =Z33*AA33 -> 0
C34: Supplies type 3 | K34: 2.5 | O34: =I34*J34 -> 0 | T34: Supplies type 3 | AB34: 2.5 | AF34: =Z34*AA34 -> 0
C35: Total supplies | O35: =SUM(O32:O34) -> 0 | T35: Total supplies | AF35: =SUM(AF32:AF34) -> 0
B36: Other (Items not included the above budget categories) | I36: # of Units | J36: $ / Unit | S36: Other (Items not included the above budget categories) | Z36: # of Units | AA36: $ / Unit
C37: Other type 1 | K37: 2.5 | O37: =I37*J37 -> 0 | T37: Other type 1 | AB37: 2.5 | AF37: =Z37*AA37 -> 0
C38: Other type 2 | K38: 2.5 | O38: =I38*J38 -> 0 | T38: Other type 2 | AB38: 2.5 | AF38: =Z38*AA38 -> 0
C39: Other type 3 | K39: 2.5 | O39: =I39*J39 -> 0 | T39: Other type 3 | AB39: 2.5 | AF39: =Z39*AA39 -> 0
C40: Total other | O40: =SUM(O37:O39) -> 0 | T40: Total other | AF40: =SUM(AF37:AF39) -> 0
B41: ="Total " &B2& " Costs" -> Total Grantee Subrecipient/Subcontractor 1: NAME HERE Costs | M41: =SUM(M12:M14,M17:M20,M27:M29,M32:M34,M37:M39) -> 0 | N41: =N10+N15+N25+N30+N35+N40 -> 0 | O41: =SUM(O10,O15,O25,O30,O35,O40) -> 0 | S41: ="Total " &S2& " Costs" -> Total Grantee Subrecipient/Subcontractor 4: Name Here Costs | AD41: =SUM(AD12:AD14,AD17:AD20,AD27:AD29,AD32:AD34,AD37:AD39) -> 0 | AE41: =AE10+AE15+AE25+AE30+AE35+AE40 -> 0 | AF41: =SUM(AF10,AF15,AF25,AF30,AF35,AF40) -> 0
...

Sheet Other
A2: OTHER Grantee Expenses
A3: GRANTEE Expenses | E3: # of units | F3: $ / Unit | G3: Initiative | H3: Funding Cap | I3: Total Other
A4: Other Grantee Expenses
B5: Software licenses
B6: 1 | C6: Software type 1 | F6: 0 | G6: 2.5 | I6: =E6*F6 -> 0 | J6: <- change software type name as needed
B7: 2 | C7: Software type 2 | F7: 0 | G7: 2.5 | I7: =E7*F7 -> 0
B8: 3 | C8: Software type 3 | F8: 0 | G8: 2.5 | I8: =E8*F8 -> 0
B9: 4 | C9: Software type 4 | F9: 0 | G9: 2.5 | I9: =E9*F9 -> 0
B10: 5 | C10: Software type 5 | F10: 0 | G10: 2.5 | I10: =E10*F10 -> 0
B11: 6 | C11: Software type 6 | F11: 0 | G11: 2.5 | I11: =E11*F11 -> 0
B12: Conference Registration fees | F12: 0 | G12: 2.5 | I12: =E12*F12 -> 0
B13: Membership and other fees | F13: 0 | G13: 2.5 | I13: =E13*F13 -> 0
A14: Total OTHER Grantee Expenses | E14: =SUM(E5:E13) -> 0 | F14: =SUM(F6:F13) -> 0 | I14: =SUM(I6:I13) -> 0
D16: Program Justification
C17: Software licenses
B18: 1 | C18: =C6 -> Software type 1
B19: 2 | C19: =C7 -> Software type 2
B20: 3 | C20: =C8 -> Software type 3
B21: 4 | C21: =C9 -> Software type 4
B22: 5 | C22: =C10 -> Software type 5
B23: 6 | C23: =C11 -> Software type 6
B24: Conference Registration fees
B25: Membership and other fees

Sheet Tribal
F2: Tribal Apportionment
C4: Tribes | D4: Applicable only if the Grantee has a project they are supporting with a Tribal government or tribal health system.
B6: Tribal Project
B7: [INSERT SOW HERE] | K7: Initiative | L7: Funding Cap | M7: Total line item | N7: Total Category | O7: Total Subrecipient/ Subcontractor
B8: Agreement Type | C8: Start Date | D8: End Date | E8: # of Awards | F8: Expected for multiple Budget Periods?
C9: MM/DD/YY | D9: MM/DD/YY
B10: Administrative Personnel | G10: Annual Salary | H10: FTE % | I10: Months | J10: Fringe Rate | M10: Salaries | N10: Fringe
C11: Admin: Salaries and Wages | M11: =G11*H11*(I11/12) -> 0 | N11: =M11*J11 -> 0 | O11: =SUM(M11:N11) -> 0
C12: Admin 2: Salaries and Wages | M12: =G12*H12*(I12/12) -> 0 | N12: =M12*J12 -> 0 | O12: =SUM(M12:N12) -> 0
B13: Indirect costs | M13: =SUM(M11:M12) -> 0 | N13: =SUM(N11:N12) -> 0 | O13: 0
C14: Total Administrative costs | O14: =SUM(O11:O13) -> 0
B15: Project implementation Salary and Wages | G15: Annual Salary | H15: FTE % | I15: Months | J15: Fringe Rate
C16: Project Manager: Salary and Wages | M16: =G16*H16*(I16/12) -> 0 | N16: =M16*J16 -> 0 | O16: =SUM(M16:N16) -> 0
C17: Project Coordinator: Salary and Wages | M17: =G17*H17*(I17/12) -> 0 | N17: =M17*J17 -> 0 | O17: =SUM(M17:N17) -> 0
C18: Project Specialist: Salary and Wages | M18: =G18*H18*(I18/12) -> 0 | N18: =M18*J18 -> 0 | O18: =SUM(M18:N18) -> 0
C19: Total Project implementation salaries and wages | M19: =SUM(M16:M18) -> 0 | N19: =SUM(N16:N18) -> 0 | O19: =SUM(O16:O18) -> 0
B20: Travel | G20: Travel Type | H20: Travel Item | I20: # of Units | J20: $ / Unit
C21: In-state | G21: In-state | H21: Hotel | O21: =I21*J21 -> 0
G22: In-state | H22: Mileage | O22: =I22*J22 -> 0
G23: In-state | H23: Per-diem | O23: =I23*J23 -> 0
G24: In-state | H24: Incedentials | O24: =I24*J24 -> 0
C25: Out of state | G25: Out of state | H25: Hotel | O25: =I25*J25 -> 0
G26: Out of state | H26: Mileage | O26: =I26*J26 -> 0
G27: Out of state | H27: Per-diem | O27: =I27*J27 -> 0
G28: Out of state | H28: Incedentials | O28: =I28*J28 -> 0
C29: Total Travel | O29: =SUM(O21:O28) -> 0
B30: Equipment (Products with a per unit cost of $10,000 or more) | I30: # of Units | J30: $ / Unit
C31: Equipment type 1 | O31: =I31*J31 -> 0
C32: Equipment type 2 | O32: =I32*J32 -> 0
C33: Equipment type 3 | O33: =I33*J33 -> 0
C34: Total equipment | O34: =SUM(O31:O33) -> 0
B35: Supplies (Products with a per unit cost of less than $10,000) | I35: # of Units | J35: $ / Unit
C36: Supplies type 1 | O36: =I36*J36 -> 0
C37: Supplies type 2 | O37: =I37*J37 -> 0
C38: Supplies type 3 | O38: =I38*J38 -> 0
C39: Total supplies | O39: =SUM(O36:O38) -> 0
B40: Other (Items not included the above budget categories) | I40: # of Units | J40: $ / Unit
C41: Other type 1 | O41: =I41*J41 -> 0
C42: Other type 2 | O42: =I42*J42 -> 0
C43: Other type 3 | O43: =I43*J43 -> 0
...

Sheet Funding Caps
E2: FUNDING CAPS
C4: Category J | D4: Capital expenditures and infrastructure | E4: Investing in existing rural health care facility buildings and infrastructure, including minor building alterations or renovations and equipment upgrades to ensure long-term overhead and upkeep costs are commensurate with patient volume, subject to restrictions in the funding policies and limitations.
B6: Category J funding cannot exceed 20% of the total funding CMS awards States in a given budget period.
B7: ALL CATEGORY J Expenses | G7: Total line item | H7: Total Capital Expenditures
B8: Capital Expenditure: Category J
C9: Capital Expenditure Project 1 | D9: [insert subrecipient/contract name here] | G9: 0 | I9: <- Please provide name(s) of project(s)
C10: Capital Expenditure Project 2 | G10: 0
C11: Capital Expenditure Project 3 | G11: 0
C12: Capital Expenditure Project 4 | G12: 0
B13: Total Capital Expenditures: Category J | H13: =G9+G10+G11+G12 -> 0
C17: Category B | D17: Provider Payments | E17: Providing payments to health care providers for the provision of health care items or services, subject to restrictions described in the funding policies and limitations. Any payments to providers must justify why they are not already reimburseable, how the payment will fill a gap in care coverage, and/or how they transform the current care delivery model.
B19: Category B funding cannot exceed 15% of the total funding CMS awards States in a given budget period.
B20: ALL CATEGORY B Expenses | G20: Total line item | H20: Total Capital Expenditures
B21: Provider Payments: Category B
C22: Provider Payment Project 1 | G22: 0 | I22: <- Please provide name(s) of project(s)
C23: Provider Payment Project 2 | G23: 0
C24: Provider Payment Project 3 | G24: 0
C25: Provider Payment Project 4 | G25: 0
B26: Total Provider Payment: Category B | H26: =G22+G23+G24+G25 -> 0
C30: HITECH Certified EMR System | D30: EMR Systems | E30: No more than 5% of total funding CMS awards to a State in a given budget period can support funding the replacement of an EMR system if a previous HITECH certified EMR system is already in place as of September 1, 2025.
B32: HITECH Certified EMR System replacement cannot exceed 5% of the total funding CMS awards States in a given budget period.
B33: All EMR Replacement | G33: Total line item | H33: Total Capital Expenditures
B34: EMR System Replacement
C35: EMR Replacement Project 1 | G35: 0
C36: EMR Replacement Project 2 | G36: 0
C37: EMR Replacement Project 3 | G37: 0
C38: EMR Replacement Project 4 | G38: 0
B39: Total EMR Replacement: | H39: =G35+G36+G37+G38 -> 0
C43: Program Justification
C44: Provide justifcation for any Funding Caps effort.
B45: 1
B46: 2
B47: 3
B48: 4
B49: 5
B50: 6

Sheet Budget periods
B1: Budget periods: Grantor will issue funding according to CMS’s five budget periods.
B2: Budget Period "Year" | C2: Beginning date | D2: End date | F2: Budget Period funds must be expended by end of the following fiscal year
B3: 1 | C3: Agreement start date | D3: 46325 | F3: 46660
B4: 2 | C4: 46326 | D4: 46690 | F4: 47026
B5: 3 | C5: 46691 | D5: 47056 | F5: 47391
B6: 4 | C6: 47057 | D6: 47421 | F6: 47756
B7: 5 | C7: 47422 | D7: 47786 | F7: 48121

Sheet Exclusions
B2: Funds may not be used for any of the following:
B3: Pre-award costs.
B4: Meeting matching requirements for any other federal funds or local entities.
B5: Services, equipment, or supports that are the legal responsibility of another party under federal, State, or tribal law, such as vocational rehabilitation or education services.
B6: Services, equipment, or supports that are the legal responsibility of another party under any civil rights law, such as modifying a workplace or providing accommodations that are obligations under law.
B7: Goods or services not allocable to the project.
B8: Supplanting existing State, local, tribal, or private funding of infrastructure or services, such as staff salaries.
B9: Construction or building expansion, purchasing or significant retrofitting of buildings, cosmetic upgrades, or any other cost that materially increases the value of the capital or useful life as a direct cost.
B10: The cost of independent research and development, including their proportionate share of indirect costs. See 2 CFR 300.477.
B11: Purchase of covered telecommunications and video surveillance equipment (See 2 CFR 200.216) as well as financial assistance to households for installation and monthly broadband internet costs.
B12: Meals, unless in limited circumstances such as:
C13: Subjects and patients under study.
C14: Where specifically approved as part of the project or program activity, such as in programs providing children’s services.
C15: As part of a per diem or subsistence allowance provided in conjunction with allowable travel.
B16: Activities prohibited under 2 CFR 200.450 and the HHS Grants Policy Statement, including but not limited to:
C17: Payments related to any activity designed to influence the enactment of legislation, appropriations, regulation, administrative action, or executive order proposed or pending before the Congress or any State government, State legislature, local legislature or legislative body, including but not limited to paying the salary or expenses of any grant Recipient or agent acting for such Recipient for such activity.
C18: Lobbying, but Recipients can lobby at their own expense if they can segregate federal funds from other financial resources used for lobbying.
B20: Program-specific limitations
B21: In addition, the following program-specific funding limitations also apply:
B22: Construction. Funds may not be used for new construction. Funds also may not be
B23: used for the following:
B24: To supplant funding for in process or planned construction projects or directing funding towards new construction builds.
B25: Construction or building expansion, purchasing or significant retrofitting of buildings, cosmetic upgrades, or any other cost that materially increases the value of the capital or useful life as a direct cost.
B26: Minor Renovations or Alterations. Funds may be used for minor renovations or alterations if they are clearly linked to program goals and receive CMS prior approval.
B27: Funding used for renovation or alterations cannot exceed 20% of the total funding awarded to the Recipient in each budget period.
B29: See NOFO, Program requirements and expectations, Use of Funds (pages 11-13), and
B30: Program-specific limitations, Unallowable Costs (pages 19-20).
B33: KEY RESOURCES
C34: Notice of Funding Opportunity (NOFO): Provides CMS guidance on program scope, permissible use of funds, and unallowable cost. https://dhhs.utah.gov/wp-content/uploads/NOFO-RHTP-2.pdf
C35: CMS Frequently Asked Questions (FAQs): Responses from CMS regarding inquiries from states. https://www.cms.gov/files/document/rural-health-transformation-frequently-asked-questions.pdf
C36: Utah's RHTP website: Updates on Utah's implementation and publicly available resources, including most of those listed here. https://dhhs.utah.gov/ruralhealth/
C37: Utah's RHTP Full Project Narrative: Utah's original application which guides implementation. https://dhhs.utah.gov/wp-content/uploads/Rural-Health-Transformation-Plan.pdf
C38: Notice of Award (December 29, 2025) : Initial notice of funding award that also outlines budget restrictions, reporting periods, and other guidelines aligned with the NOFO. https://dhhs.utah.gov/wp-content/uploads/NOA_RHTCMS332051-01-00.pdf
C39: CMS Guidance for Preparing a Budget Request and Narrative: General budget guidance from CMS https://www.cms.gov/about-cms/work-us/cms-grants-cooperative-agreements/how-apply-cms-grants/cms-guidance-preparing-budget-request-narrative
